BEGIN:VCALENDAR
VERSION:2.0
PRODID:-//ChamberMaster//Event Calendar 2.0//EN
METHOD:PUBLISH
X-PUBLISHED-TTL:P3D
REFRESH-INTERVAL:P3D
CALSCALE:GREGORIAN
BEGIN:VEVENT
DTSTART:20220730T000000Z
DTEND:20220730T030000Z
X-MICROSOFT-CDO-ALLDAYEVENT:FALSE
SUMMARY:Beck Brothers Band at The Elks
DESCRIPTION:Beck brothers band playing 7-10p on Friday July 29 and Turbo Fire Pizza truck will be there.
X-ALT-DESC;FMTTYPE=text/html:Beck brothers band playing 7-10p on Friday July 29 and Turbo Fire Pizza truck will be there.&nbsp\;
LOCATION:Macomb Elks Lodge 1009 401 Deer Rd. Macomb\, IL 61455
UID:e.2125.9925
SEQUENCE:3
DTSTAMP:20260422T134419Z
URL:https://business.macombareachamber.com/events/details/beck-brothers-band-at-the-elks-9925
END:VEVENT

END:VCALENDAR
