BEGIN:VCALENDAR
VERSION:2.0
PRODID:-//ChamberMaster//Event Calendar 2.0//EN
METHOD:PUBLISH
X-PUBLISHED-TTL:P3D
REFRESH-INTERVAL:P3D
CALSCALE:GREGORIAN
BEGIN:VEVENT
DTSTART:20230711T153000Z
DTEND:20230713T170000Z
X-MICROSOFT-CDO-ALLDAYEVENT:FALSE
SUMMARY:Be a Pro- Print Shop Art Camp
DESCRIPTION:Learn screen printing basics\, create your own block print and explore materials and techniques of print making. Ages 8 and up. $45 for members/\n\n$50 for nonmembers
X-ALT-DESC;FMTTYPE=text/html:Learn screen printing basics\, create your own block print and explore materials and techniques of print making. Ages 8 and up. $45 for members/<br />\n$50 for nonmembers
LOCATION:Discovery Depot Children's Museum 128 S Chambers St Galesburg\, IL 61401
UID:e.2125.13140
SEQUENCE:3
DTSTAMP:20260423T174929Z
URL:https://business.macombareachamber.com/events/details/be-a-pro-print-shop-art-camp-13140
END:VEVENT

END:VCALENDAR
