BEGIN:VCALENDAR
VERSION:2.0
PRODID:-//ChamberMaster//Event Calendar 2.0//EN
METHOD:PUBLISH
X-PUBLISHED-TTL:P3D
REFRESH-INTERVAL:P3D
CALSCALE:GREGORIAN
BEGIN:VEVENT
DTSTART;VALUE=DATE:20250502
DTEND;VALUE=DATE:20250505
TRANSP:TRANSPARENT
X-MICROSOFT-CDO-ALLDAYEVENT:TRUE
SUMMARY:Ball Fore Opening Weekend
DESCRIPTION:The Ball Fore 2025 season is coming in full swing on May 2nd! Enjoy mini-golf\, park golf\, batting cages\, basketball courts and more!\n\nPark hours are :\n\nFriday: 5:00 pm-10:00 pm\n\nSaturday: 1:00 pm-10:00 pm\n\nSunday: 1:00 pm-6:00 pm
X-ALT-DESC;FMTTYPE=text/html:<div class="xdj266r x11i5rnm xat24cr x1mh8g0r x1vvkbs" style="margin: 0px\; overflow-wrap: break-word\; font-family: &quot\;Segoe UI Historic&quot\;\, &quot\;Segoe UI&quot\;\, Helvetica\, Arial\, sans-serif\; color: rgb(8\, 8\, 9)\; font-size: 15px\; background-color: rgb(255\, 255\, 255)\;">The Ball Fore 2025 season is coming in full swing on May 2nd! Enjoy mini-golf\, park golf\, batting cages\, basketball courts and more!<br />\nPark hours are :<br />\nFriday: 5:00 pm-10:00 pm<br />\nSaturday: 1:00 pm-10:00 pm<br />\nSunday: 1:00 pm-6:00 pm</div>\n
LOCATION:9575 US Highway 136\, Macomb\, IL
UID:e.2125.18847
SEQUENCE:3
DTSTAMP:20260422T103820Z
URL:https://business.macombareachamber.com/events/details/ball-fore-opening-weekend-18847
END:VEVENT

END:VCALENDAR
