BEGIN:VCALENDAR
VERSION:2.0
PRODID:-//ChamberMaster//Event Calendar 2.0//EN
METHOD:PUBLISH
X-PUBLISHED-TTL:P3D
REFRESH-INTERVAL:P3D
CALSCALE:GREGORIAN
BEGIN:VEVENT
DTSTART:20231010T220000Z
DTEND:20231010T233000Z
X-MICROSOFT-CDO-ALLDAYEVENT:FALSE
SUMMARY:Backin' the Blue & Gold Dinner and Silent Auction
DESCRIPTION:Backin' the Blue & Gold dinner\, scholarship and benefit auction\, presented by the Macomb FFA Alumni Association. Pork chop dinner from 5-6:30 and live auction at 6:30.
X-ALT-DESC;FMTTYPE=text/html:Backin&#39\; the Blue &amp\; Gold dinner\, scholarship and benefit auction\, presented by the Macomb FFA Alumni Association. Pork chop dinner from 5-6:30 and live auction at 6:30.&nbsp\;
LOCATION:Lowderman Auction Center 2.5 miles west of Macomb
UID:e.2125.14109
SEQUENCE:3
DTSTAMP:20260422T140343Z
URL:https://business.macombareachamber.com/events/details/backin-the-blue-gold-dinner-and-silent-auction-14109
END:VEVENT

END:VCALENDAR
