BEGIN:VCALENDAR
VERSION:2.0
PRODID:-//ChamberMaster//Event Calendar 2.0//EN
METHOD:PUBLISH
X-PUBLISHED-TTL:P3D
REFRESH-INTERVAL:P3D
CALSCALE:GREGORIAN
BEGIN:VEVENT
DTSTART:20240919T140000Z
DTEND:20240919T200000Z
X-MICROSOFT-CDO-ALLDAYEVENT:FALSE
SUMMARY:Attachment Focused Methods of Creating LGBTQIA+ Affirming Environments
DESCRIPTION:Join in on September 19 to enhance your LGBTQ+ cultural competency. This course will raise awareness about the identities\, experiences\, and unique needs of LGBTQ+ youth in a manner that is developmentally and academically supportive. Participants will better understand how bias can harm those we serve\, while gaining tools and skills to not only reduce harm\, but provide methods to positively impact individuals and our community.\n\n\n\nThis training course will provide fundamental information for those new to LGBTQ+ cultural concepts while also providing more intermediate and advanced concepts for those who have fundamental knowledge and seek to enhance their cultural competency to a higher degree. This course will raise awareness about the identities\, experiences\, and unique needs of LGBTQ+ youth in a manner that is developmentally and academically supportive.\n\n\n\nParticipants will:\n\n- Receive a concentrated focus on mental health optimization and suicide prevention\, participants will receive an overview of current lexicon to ensure appropriate\, respectful\, and emotionally safer interactions with individuals belonging to a traditionally marginalized group.\n\n- Learn about sexual orientation and gender identity from a developmental standpoint\, leaning into attachment theory and family systems to optimize outcomes.\n\n- Enhance their knowledge base regarding LGBTQ+ culture and enhance participants' ability to work effectively with youth who belong to traditionally marginalized groups\, thereby enhancing cultural competency to serve this vibrant population.\n\n- Learn about local\, regional\, and national resources that support the creation of safer\, affirming\, and welcoming environments.\n\n- Understand the challenges individuals face in our society when they have multiple points of intersectionality\, including educational disparities\, exposure to minority stress\, and lack of inclusion (for example).\n\n- Complete an implicit bias assessment\, allowing for deeper reflection and examine the formation and divestment of their personal values\, beliefs\, and judgments related to serving LGBTQ+ students. Ultimately\, participants will better understand how bias can harm those we serve while gaining tools and skills to not only reduce harm\, but provide methods to positively impact individuals and our community.\n\n- Walk away with practical tools to enhance well-being and help meet the basic needs of youth who are vulnerable\, oppressed\, and living with significant challenges.
X-ALT-DESC;FMTTYPE=text/html:Join in on September 19 to enhance your LGBTQ+ cultural competency. This course will raise awareness about the identities\, experiences\, and unique needs of LGBTQ+ youth in a manner that is developmentally and academically supportive. Participants will better understand how bias can harm those we serve\, while gaining tools and skills to not only reduce harm\, but provide methods to positively impact individuals and our community.<br />\n<br />\nThis training course will provide fundamental information for those new to LGBTQ+ cultural concepts while also providing more intermediate and advanced concepts for those who have fundamental knowledge and seek to enhance their cultural competency to a higher degree. This course will raise awareness about the identities\, experiences\, and unique needs of LGBTQ+ youth in a manner that is developmentally and academically supportive.<br />\n<br />\nParticipants will:<br />\n- Receive a concentrated focus on mental health optimization and suicide prevention\, participants will receive an overview of current lexicon to ensure appropriate\, respectful\, and emotionally safer interactions with individuals belonging to a traditionally marginalized group.<br />\n- Learn about sexual orientation and gender identity from a developmental standpoint\, leaning into attachment theory and family systems to optimize outcomes.<br />\n- Enhance their knowledge base regarding LGBTQ+ culture and enhance participants&#39\; ability to work effectively with youth who belong to traditionally marginalized groups\, thereby enhancing cultural competency to serve this vibrant population.<br />\n- Learn about local\, regional\, and national resources that support the creation of safer\, affirming\, and welcoming environments.<br />\n- Understand the challenges individuals face in our society when they have multiple points of intersectionality\, including educational disparities\, exposure to minority stress\, and lack of inclusion (for example).<br />\n- Complete an implicit bias assessment\, allowing for deeper reflection and examine the formation and divestment of their personal values\, beliefs\, and judgments related to serving LGBTQ+ students. Ultimately\, participants will better understand how bias can harm those we serve while gaining tools and skills to not only reduce harm\, but provide methods to positively impact individuals and our community.<br />\n- Walk away with practical tools to enhance well-being and help meet the basic needs of youth who are vulnerable\, oppressed\, and living with significant challenges.
LOCATION:932 Harrison St. Galesburg\, IL
UID:e.2125.15681
SEQUENCE:3
DTSTAMP:20260422T075723Z
URL:https://business.macombareachamber.com/events/details/attachment-focused-methods-of-creating-lgbtqia-affirming-environments-15681
END:VEVENT

END:VCALENDAR
