BEGIN:VCALENDAR
VERSION:2.0
PRODID:-//ChamberMaster//Event Calendar 2.0//EN
METHOD:PUBLISH
X-PUBLISHED-TTL:P3D
REFRESH-INTERVAL:P3D
CALSCALE:GREGORIAN
BEGIN:VEVENT
DTSTART;VALUE=DATE:20240906
DTEND;VALUE=DATE:20240908
TRANSP:TRANSPARENT
X-MICROSOFT-CDO-ALLDAYEVENT:TRUE
SUMMARY:Art Wind & Fire Festival
DESCRIPTION:Macomb's Art\, Wind & Fire Festival takes flight on September 6-7! Do you have your hot air balloon ready??  \n\n\n\nThis amazing weekend will feature three main events:\n\n\n\n  Gazebo Art Festival @ Chandler Park: Sat. 9/7\, 9am-4pm\n\nJuried art sale featuring paintings\, sculptures\, photography\, jewelry\, ceramics and fiber arts from regional artists.\n\n\n\n  YFC Disc Golf Doubles Tournament @ Everly & Glenwood Parks: 8am registration\, 9am tee off.\n\n$50 per rec team\, $70 per open team\, with two rounds on Everwood Disc Gold Course.\n\n\n\n  Balloon Rally @ WIU's Vince Grady Field: Fri. 9/6\, 6pm (flight)\; Sat 9/7\, 6:45am & 6pm (flights) & 7:30pm (balloon glow).
X-ALT-DESC;FMTTYPE=text/html:Macomb&rsquo\;s Art\, Wind &amp\; Fire Festival takes flight on September 6-7! Do you have your hot air balloon ready?? &#127880\;<br />\n<br />\nThis amazing weekend will feature three main events:<br />\n<br />\n&#127912\; Gazebo Art Festival @ Chandler Park: Sat. 9/7\, 9am-4pm<br />\nJuried art sale featuring paintings\, sculptures\, photography\, jewelry\, ceramics and fiber arts from regional artists.<br />\n<br />\n&#128168\; YFC Disc Golf Doubles Tournament @ Everly &amp\; Glenwood Parks: 8am registration\, 9am tee off.<br />\n$50 per rec team\, $70 per open team\, with two rounds on Everwood Disc Gold Course.<br />\n<br />\n&#128293\; Balloon Rally @ WIU&rsquo\;s Vince Grady Field: Fri. 9/6\, 6pm (flight)\; Sat 9/7\, 6:45am &amp\; 6pm (flights) &amp\; 7:30pm (balloon glow).
LOCATION:
UID:e.2125.15459
SEQUENCE:3
DTSTAMP:20260422T075433Z
URL:https://business.macombareachamber.com/events/details/art-wind-fire-festival-15459
END:VEVENT

END:VCALENDAR
