BEGIN:VCALENDAR
VERSION:2.0
PRODID:-//ChamberMaster//Event Calendar 2.0//EN
METHOD:PUBLISH
X-PUBLISHED-TTL:P3D
REFRESH-INTERVAL:P3D
CALSCALE:GREGORIAN
BEGIN:VEVENT
DTSTART:20220705T150000Z
DTEND:20220707T170000Z
X-MICROSOFT-CDO-ALLDAYEVENT:FALSE
SUMMARY:Art to Wear-YES-Wearable Art Camp
DESCRIPTION:Turn your creative side into fashion expression\, T-shirt and ball cap fun\, accessories design and much more!\n\nAges 7 and up\n\n3 Day Camp\n\n$45 for Members/$50 for Non-Members\n\nYou may register in person or online at www.discoverydepot.org
X-ALT-DESC;FMTTYPE=text/html:Turn your creative side into fashion expression\, T-shirt and ball cap fun\, accessories design and much more!<br />\nAges 7 and up<br />\n3 Day Camp<br />\n$45 for Members/$50 for Non-Members<br />\nYou may register in person or online at www.discoverydepot.org
LOCATION:Discovery Depot 128 S Chambers St Galesburg\, IL\, 61401
UID:e.2125.8438
SEQUENCE:3
DTSTAMP:20260422T120703Z
URL:https://business.macombareachamber.com/events/details/art-to-wear-yes-wearable-art-camp-8438
END:VEVENT

END:VCALENDAR
