BEGIN:VCALENDAR
VERSION:2.0
PRODID:-//ChamberMaster//Event Calendar 2.0//EN
METHOD:PUBLISH
X-PUBLISHED-TTL:P3D
REFRESH-INTERVAL:P3D
CALSCALE:GREGORIAN
BEGIN:VEVENT
DTSTART:20250416T213000Z
DTEND:20250416T230000Z
X-MICROSOFT-CDO-ALLDAYEVENT:FALSE
SUMMARY:April Business After Hours
DESCRIPTION:Join us for a fun\, informal night of networking with your fellow Macomb Area Chamber business professionals.
X-ALT-DESC;FMTTYPE=text/html:<span style="color: rgb(51\, 51\, 51)\; font-family: sans-serif\, Arial\, Verdana\, &quot\;Trebuchet MS&quot\;\; font-size: 13px\; background-color: rgb(255\, 255\, 255)\;">Join us for a fun\, informal night of networking with your fellow Macomb Area Chamber business professionals.&nbsp\;</span>
LOCATION:Hollister Home Center 4001 W. Jackson St. Macomb\, IL
UID:e.2125.16203
SEQUENCE:3
DTSTAMP:20260420T113149Z
URL:https://business.macombareachamber.com/events/details/april-business-after-hours-16203
END:VEVENT

END:VCALENDAR
