BEGIN:VCALENDAR
VERSION:2.0
PRODID:-//ChamberMaster//Event Calendar 2.0//EN
METHOD:PUBLISH
X-PUBLISHED-TTL:P3D
REFRESH-INTERVAL:P3D
CALSCALE:GREGORIAN
BEGIN:VEVENT
DTSTART:20230419T213000Z
DTEND:20230419T230000Z
X-MICROSOFT-CDO-ALLDAYEVENT:FALSE
SUMMARY:April Business After Hours
DESCRIPTION:A free networking event for Chamber members and potential new members as well.  Hosted by Countryview Care Center.
X-ALT-DESC;FMTTYPE=text/html:A free networking event for Chamber members and potential new members as well.&nbsp\; Hosted by Countryview Care Center.&nbsp\;
LOCATION:Wine Sellers - 121 S. Randolph St.\, Macomb
UID:e.2125.12319
SEQUENCE:3
DTSTAMP:20260423T221531Z
URL:https://business.macombareachamber.com/events/details/april-business-after-hours-12319
END:VEVENT

END:VCALENDAR
