BEGIN:VCALENDAR
VERSION:2.0
PRODID:-//ChamberMaster//Event Calendar 2.0//EN
METHOD:PUBLISH
X-PUBLISHED-TTL:P3D
REFRESH-INTERVAL:P3D
CALSCALE:GREGORIAN
BEGIN:VEVENT
DTSTART:20220924T160000Z
DTEND:20220924T190000Z
X-MICROSOFT-CDO-ALLDAYEVENT:FALSE
SUMMARY:Apple Volcanoes
DESCRIPTION:Exploring chemical reactions to make an apple volcano!
X-ALT-DESC;FMTTYPE=text/html:Exploring chemical reactions to make an apple volcano!
LOCATION:Discovery Depot Children's Museum 128 S Chambers St Galesburg\, IL\, 61401
UID:e.2125.9992
SEQUENCE:3
DTSTAMP:20260423T091126Z
URL:https://business.macombareachamber.com/events/details/apple-volcanoes-9992
END:VEVENT

END:VCALENDAR
