BEGIN:VCALENDAR
VERSION:2.0
PRODID:-//ChamberMaster//Event Calendar 2.0//EN
METHOD:PUBLISH
X-PUBLISHED-TTL:P3D
REFRESH-INTERVAL:P3D
CALSCALE:GREGORIAN
BEGIN:VEVENT
DTSTART:20250514T170000Z
DTEND:20250514T183000Z
X-MICROSOFT-CDO-ALLDAYEVENT:FALSE
SUMMARY:Annual Landlord Luncheon
DESCRIPTION:Lunch is on us! Join the Housing Authority Executive Director and HCV Coordinator for a catered lunch. We will discuss HUD regulations\, federal funding\, and the benefits of becoming a Section 8 landlord. \n\n\n\nWe look forward to seeing you!
X-ALT-DESC;FMTTYPE=text/html:Lunch is on us! Join the Housing Authority Executive Director and HCV Coordinator for a catered lunch. We will discuss HUD regulations\, federal funding\, and the benefits of becoming a Section 8 landlord.&nbsp\;<br />\n<br />\nWe look forward to seeing you!
LOCATION:Prairieview Townhomes Community Center 425 N. Prairie Avenue
UID:e.2125.18867
SEQUENCE:3
DTSTAMP:20260422T104135Z
URL:https://business.macombareachamber.com/events/details/annual-landlord-luncheon-18867
END:VEVENT

END:VCALENDAR
