BEGIN:VCALENDAR
VERSION:2.0
PRODID:-//ChamberMaster//Event Calendar 2.0//EN
METHOD:PUBLISH
X-PUBLISHED-TTL:P3D
REFRESH-INTERVAL:P3D
CALSCALE:GREGORIAN
BEGIN:VEVENT
DTSTART;VALUE=DATE:20241017
DTEND;VALUE=DATE:20241018
TRANSP:TRANSPARENT
X-MICROSOFT-CDO-ALLDAYEVENT:TRUE
SUMMARY:Annual Drive Thru Coat Drive
DESCRIPTION:The Macomb Morning Rotary Club Coat Drive in partnership with the Salvation Army will take place on:\n\n\n\nThursday October 17\, 2024 at the Macomb Train Station (120 E. Calhoun St.)\n\n7:00-9:00 am and 4:00-6:00 pm.\n\n\n\nWe are happy to accept new and gently used coats\, jackets\, sweaters\, gloves\, scarves\, hats\, etc.
X-ALT-DESC;FMTTYPE=text/html:The Macomb Morning Rotary Club Coat Drive in partnership with the Salvation Army will take place on:<br />\n<br />\nThursday October 17\, 2024 at the Macomb Train Station (120 E. Calhoun St.)<br />\n7:00-9:00 am and 4:00-6:00 pm.<br />\n<br />\nWe are happy to accept new and gently used coats\, jackets\, sweaters\, gloves\, scarves\, hats\, etc.
LOCATION:
UID:e.2125.16054
SEQUENCE:3
DTSTAMP:20260422T054451Z
URL:https://business.macombareachamber.com/events/details/annual-drive-thru-coat-drive-16054
END:VEVENT

END:VCALENDAR
