BEGIN:VCALENDAR
VERSION:2.0
PRODID:-//ChamberMaster//Event Calendar 2.0//EN
METHOD:PUBLISH
X-PUBLISHED-TTL:P3D
REFRESH-INTERVAL:P3D
CALSCALE:GREGORIAN
BEGIN:VEVENT
DTSTART:20230420T143000Z
DTEND:20230420T163000Z
X-MICROSOFT-CDO-ALLDAYEVENT:FALSE
SUMMARY:An Introduction to Manufacturing and Trade in Illinois
DESCRIPTION:U.S. Senator Tammy Duckworth invites you to an Introduction to Manufacturing and Trade in Illinois. Join us for a virtual webinar on how we can provide guidance\, resources\, and support to increase manufacturing\, trade\, and export business in our state. RSVP by April 18. \n\n\n\nThis event will feature presentations from:\n\n\n\nIllinois District Export Council (ILDEC)\n\nU.S. Department of Commerce\, International Trade Administration (ITA)\n\nIllinois Department of Commerce and Economic Opportunity\, Office of Trade and Investment (DCEO)\n\nIllinois Manufacturing Excellence Center (IMEC)\n\nExport-Import (EXIM) Bank\n\nThere will be time at the end of the presentations for a brief Q & A with our presenters.
X-ALT-DESC;FMTTYPE=text/html:U.S. Senator Tammy Duckworth invites you to an Introduction to Manufacturing and Trade in Illinois. Join us for a virtual webinar on how we can provide guidance\, resources\, and support to increase manufacturing\, trade\, and export business in our state. RSVP by April 18.&nbsp\;<br />\n<br />\nThis event will feature presentations from:<br />\n<br />\nIllinois District Export Council (ILDEC)<br />\nU.S. Department of Commerce\, International Trade Administration (ITA)<br />\nIllinois Department of Commerce and Economic Opportunity\, Office of Trade and Investment (DCEO)<br />\nIllinois Manufacturing Excellence Center (IMEC)<br />\nExport-Import (EXIM) Bank<br />\nThere will be time at the end of the presentations for a brief Q &amp\; A with our presenters.<br />\n&nbsp\;
LOCATION:Virtual
UID:e.2125.13130
SEQUENCE:3
DTSTAMP:20260423T222619Z
URL:https://business.macombareachamber.com/events/details/an-introduction-to-manufacturing-and-trade-in-illinois-13130
END:VEVENT

END:VCALENDAR
