BEGIN:VCALENDAR
VERSION:2.0
PRODID:-//ChamberMaster//Event Calendar 2.0//EN
METHOD:PUBLISH
X-PUBLISHED-TTL:P3D
REFRESH-INTERVAL:P3D
CALSCALE:GREGORIAN
BEGIN:VEVENT
DTSTART:20241022T180000Z
DTEND:20241022T200000Z
X-MICROSOFT-CDO-ALLDAYEVENT:FALSE
SUMMARY:An Intro to Conservation Legacy Giving
DESCRIPTION:PLC is partnering with L.I.F.E Macomb to offer an introductory course to the Conservancy's work with landowners to protect natural areas\, open spaces\, and farmlands. Executive Director Dr. Victoria Livingston will share the work that has been done with conservation easements and the stewardship of PLC preserves. There will be a brief overview of the impacts of legacy giving and estate planning on our land trust's programing.\n\n \n\nThere is a $5 cost to attend this course and limited attendance.
X-ALT-DESC;FMTTYPE=text/html:PLC is partnering with L.I.F.E Macomb to offer an introductory course to the Conservancy&#39\;s work with landowners to protect natural areas\, open spaces\, and farmlands. Executive Director Dr. Victoria Livingston will share the work that has been done with conservation easements and the stewardship of PLC preserves. There will be a brief overview of the impacts of legacy giving and estate planning on our land trust&#39\;s programing.<br />\n&#8203\;<br />\nThere is a $5 cost to attend this course and limited attendance.
LOCATION:
UID:e.2125.15968
SEQUENCE:3
DTSTAMP:20260422T061410Z
URL:https://business.macombareachamber.com/events/details/an-intro-to-conservation-legacy-giving-15968
END:VEVENT

END:VCALENDAR
