BEGIN:VCALENDAR
VERSION:2.0
PRODID:-//ChamberMaster//Event Calendar 2.0//EN
METHOD:PUBLISH
X-PUBLISHED-TTL:P3D
REFRESH-INTERVAL:P3D
CALSCALE:GREGORIAN
BEGIN:VEVENT
DTSTART:20230630T223000Z
DTEND:20230701T003000Z
X-MICROSOFT-CDO-ALLDAYEVENT:FALSE
SUMMARY:Alzheimer's Community Kickoff & Awareness Concert: Bill Maakestad & Friends
DESCRIPTION:Join the Alzheimer's Association to learn more about the Walk to End Alzheimer's and about there free program and support services. Live Music: Bill Maakestad
X-ALT-DESC;FMTTYPE=text/html:Join the Alzheimer&#39\;s Association to learn more about the Walk to End Alzheimer&#39\;s and about there free program and support services. Live Music: Bill Maakestad
LOCATION:The Wine Sellers - 121 S Randolph St\, Macomb\, IL 61455
UID:e.2125.13580
SEQUENCE:3
DTSTAMP:20260423T193008Z
URL:https://business.macombareachamber.com/events/details/alzheimer-s-community-kickoff-awareness-concert-bill-maakestad-friends-13580
END:VEVENT

END:VCALENDAR
