BEGIN:VCALENDAR
VERSION:2.0
PRODID:-//ChamberMaster//Event Calendar 2.0//EN
METHOD:PUBLISH
X-PUBLISHED-TTL:P3D
REFRESH-INTERVAL:P3D
CALSCALE:GREGORIAN
BEGIN:VEVENT
DTSTART:20230415T130000Z
DTEND:20230415T170000Z
X-MICROSOFT-CDO-ALLDAYEVENT:FALSE
SUMMARY:Alley Cat Adventure Race
DESCRIPTION:Come test your puzzle-solving skills in this FREE Macomb fun run\, hosted by local adventure race pros Tim and Mandi Clark! Gather a team and test your skills while exploring Macomb in the fresh spring air!\n\nParticipation is FREE\, but donations are welcome\, and will go toward sponsoring Tim and Mandi's niece while she takes Washington DC by storm during her college internship!\n\nTo pre-register\, text a team name and member count to Tim Clark at 309-333-6666\n\nRegistration opens at 8 AM in the Sullivan Way Alley\, right next to Sullivan Taylor Coffee.\n\nPre-race meeting (very important!) starts at 8:40 AM\, and the race begins at 9 AM! Official end time is 12 PM.
X-ALT-DESC;FMTTYPE=text/html:Come test your puzzle-solving skills in this FREE Macomb fun run\, hosted by local adventure race pros Tim and Mandi Clark! Gather a team and test your skills while exploring Macomb in the fresh spring air!<br />\nParticipation is FREE\, but donations are welcome\, and will go toward sponsoring Tim and Mandi&rsquo\;s niece while she takes Washington DC by storm during her college internship!<br />\nTo pre-register\, text a team name and member count to Tim Clark at 309-333-6666<br />\nRegistration opens at 8 AM in the Sullivan Way Alley\, right next to Sullivan Taylor Coffee.<br />\nPre-race meeting (very important!) starts at 8:40 AM\, and the race begins at 9 AM! Official end time is 12 PM.&nbsp\;
LOCATION:Sullivan Taylor Coffee House - 119 S. Randolph Street\, Macomb
UID:e.2125.13083
SEQUENCE:3
DTSTAMP:20260423T235723Z
URL:https://business.macombareachamber.com/events/details/alley-cat-adventure-race-13083
END:VEVENT

END:VCALENDAR
