BEGIN:VCALENDAR
VERSION:2.0
PRODID:-//ChamberMaster//Event Calendar 2.0//EN
METHOD:PUBLISH
X-PUBLISHED-TTL:P3D
REFRESH-INTERVAL:P3D
CALSCALE:GREGORIAN
BEGIN:VEVENT
DTSTART:20230916T143000Z
DTEND:20230916T163000Z
X-MICROSOFT-CDO-ALLDAYEVENT:FALSE
SUMMARY:All About Butterflies!
DESCRIPTION:Growing Up Green-Kids Engineer:\n\nDesign a butterfly net\, build a butterfly feeder and create butterfly art.\n\n$1.00 with admission.
X-ALT-DESC;FMTTYPE=text/html:Growing Up Green-Kids Engineer:<br />\nDesign a butterfly net\, build a butterfly feeder and create butterfly art.<br />\n$1.00 with admission.
LOCATION:
UID:e.2125.13708
SEQUENCE:3
DTSTAMP:20260422T150845Z
URL:https://business.macombareachamber.com/events/details/all-about-butterflies-13708
END:VEVENT

END:VCALENDAR
