BEGIN:VCALENDAR
VERSION:2.0
PRODID:-//ChamberMaster//Event Calendar 2.0//EN
METHOD:PUBLISH
X-PUBLISHED-TTL:P3D
REFRESH-INTERVAL:P3D
CALSCALE:GREGORIAN
BEGIN:VEVENT
DTSTART:20240702T183000Z
DTEND:20240702T203000Z
X-MICROSOFT-CDO-ALLDAYEVENT:FALSE
SUMMARY:Active Youth Days
DESCRIPTION:Help Kids Stay Active. This SUMMER 2 days a week! Held in the Gymnasium! Activities include dodgeball\, kickball\, basketball\, capture the flag\, players choice\, etc. Must be 10 years old to attend by themselves or have a parent/guardian attend with who is 18+.
X-ALT-DESC;FMTTYPE=text/html:Help Kids Stay Active. This SUMMER 2 days a week! Held in the Gymnasium! Activities include dodgeball\, kickball\, basketball\, capture the flag\, players choice\, etc. Must be 10 years old to attend by themselves or have a parent/guardian attend with who is 18+.&nbsp\;
LOCATION:YMCA of McDonough County 400 E. Calhoun Street Macomb\, IL
UID:e.2125.15144
SEQUENCE:3
DTSTAMP:20260423T010452Z
URL:https://business.macombareachamber.com/events/details/active-youth-days-07-02-2024-15144
END:VEVENT

END:VCALENDAR
