BEGIN:VCALENDAR
VERSION:2.0
PRODID:-//ChamberMaster//Event Calendar 2.0//EN
METHOD:PUBLISH
X-PUBLISHED-TTL:P3D
REFRESH-INTERVAL:P3D
CALSCALE:GREGORIAN
BEGIN:VEVENT
DTSTART;VALUE=DATE:20240905
DTEND;VALUE=DATE:20240906
TRANSP:TRANSPARENT
X-MICROSOFT-CDO-ALLDAYEVENT:TRUE
SUMMARY:A Thousand Words: Writing Inspired by Art
DESCRIPTION:Join us for a new writing experience at the MAC that joins visual art and the written word. All levels of writing are welcome. This event is geared towards generating new writing and connecting with local writers. We will look at the current exhibit and take time to write about a piece or two. You will have the option to share your writing if you would like. Bring your notebook\, computer\, typewriter\, etc.
X-ALT-DESC;FMTTYPE=text/html:Join us for a new writing experience at the MAC that joins visual art and the written word. All levels of writing are welcome. This event is geared towards generating new writing and connecting with local writers. We will look at the current exhibit and take time to write about a piece or two. You will have the option to share your writing if you would like. Bring your notebook\, computer\, typewriter\, etc.&nbsp\;
LOCATION:Macomb Arts Center 25 E. Side Square
UID:e.2125.15714
SEQUENCE:3
DTSTAMP:20260422T061151Z
URL:https://business.macombareachamber.com/events/details/a-thousand-words-writing-inspired-by-art-15714
END:VEVENT

END:VCALENDAR
