BEGIN:VCALENDAR
VERSION:2.0
PRODID:-//ChamberMaster//Event Calendar 2.0//EN
METHOD:PUBLISH
X-PUBLISHED-TTL:P3D
REFRESH-INTERVAL:P3D
CALSCALE:GREGORIAN
BEGIN:VEVENT
DTSTART:20241115T220000Z
DTEND:20241116T010000Z
X-MICROSOFT-CDO-ALLDAYEVENT:FALSE
SUMMARY:7th Annual Macomb Merchant Mingle
DESCRIPTION:Macomb Merchant Mingle is Back!  \n\nIt's that time of year again\, and we're inviting you to shop local\, support some of Macomb's favorite businesses\, and join in on the fun!    Whether you're looking to discover something new or revisit your favorite spots\, this event has it all.\n\nHow It Works:\n\n| Start your evening by grabbing a punch card at any participating business.\n\n| Explore some of Macomb's best shops and collect a punch!\n\n| Once you've received 5 punches on your punch card\, head to one of the participating eateries to finish the night with a delicious meal to be entered into the GRAND PRIZE drawing for a chance to win gift certificates!   \n\nNo purchase is necessary to participate   just come out\, mingle with fellow shoppers\, and see what Macomb has to offer. For every $75 or more before tax you spend you'll get an extra entry into the drawing. Visit the website for a full list of participating businesses.
X-ALT-DESC;FMTTYPE=text/html:Macomb Merchant Mingle is Back! &#127881\;<br />\nIt&rsquo\;s that time of year again\, and we&rsquo\;re inviting you to shop local\, support some of Macomb&#39\;s favorite businesses\, and join in on the fun! &#128717\;&#65039\; Whether you&#39\;re looking to discover something new or revisit your favorite spots\, this event has it all.<br />\nHow It Works:<br />\n| Start your evening by grabbing a punch card at any participating business.<br />\n| Explore some of Macomb&rsquo\;s best shops and collect a punch!<br />\n| Once you&#39\;ve received 5 punches on your punch card\, head to one of the participating eateries to finish the night with a delicious meal to be entered into the GRAND PRIZE drawing for a chance to win gift certificates! &#127873\;&#128184\;<br />\nNo purchase is necessary to participate &ndash\; just come out\, mingle with fellow shoppers\, and see what Macomb has to offer. For every $75 or more before tax you spend you&#39\;ll get an extra entry into the drawing. Visit the website for a full list of participating businesses.&nbsp\;
LOCATION:15 locations
UID:e.2125.16155
SEQUENCE:3
DTSTAMP:20260422T075249Z
URL:https://business.macombareachamber.com/events/details/7th-annual-macomb-merchant-mingle-16155
END:VEVENT

END:VCALENDAR
