BEGIN:VCALENDAR
VERSION:2.0
PRODID:-//ChamberMaster//Event Calendar 2.0//EN
METHOD:PUBLISH
X-PUBLISHED-TTL:P3D
REFRESH-INTERVAL:P3D
CALSCALE:GREGORIAN
BEGIN:VEVENT
DTSTART:20230429T140000Z
DTEND:20230429T200000Z
X-MICROSOFT-CDO-ALLDAYEVENT:FALSE
SUMMARY:6 Hour Crossfit WOD Fundraiser
DESCRIPTION:We are hosting a fundraiser to help support Korby's trip for Semifinals as he attempts to make the Crossfit Games! He will travel to Orlando May 19-21st. All funds will help pay for our gyms travel\, lodging\, and food! We are going to try to help everyone who wants to go support get the chance to do so! Message us if you plan on attending!\n\nAll workouts will be partnered. 10min time cap on all WOD's except the 6th and final WOD. All WOD's can be scaled to meet all levels of fitness using the following zoning: General= RX\n\nCaptain= Zone 1\, First scaling\n\nPrivate= Zone 2-3\, Second scaling\n\nWOD 1: 9:00am: "Partner ANNIE"\n\nFor Time: 50-40-30-20-10 Double Unders and Situps\n\n*Only one partner works at a time. Each to complete the full rep scheme of Annie. General: DU and situps as prescribed\n\nCaptain: 2x single skips (100-80-60-40-20)\, option for wall/wt\n\nPrivate: 1xsingle skips (50-40-30-20-10) wall/wt for sit ups\n\nWOD 2: 10:00am: "GI JANE"\n\n100 Burpee Pull ups for time\n\n*only one person working at a time\, reps are to be split between the partners in any way (ie\, 50 each).\n\nGeneral: burpee chin over bar\, kipping or strict\n\nCaptain: burpee knee raise\n\nPrivate: burpee bar touch\n\nWOD 3: 11:00am: "Double Time"\n\nAMRAP the following\, on 30 sec rest/transition 2min AMRAP Deadlifts\n\n2min AMRAP Ground to Shoulder\n\n2min AMRAP Shoulder to Overhead\n\n2min AMRAP Front Squat\n\n*Only one partner working at a time. General: 135/95\n\nCaptain: 95/65\n\nPrivate: 65/45\n\nWOD 4: 12:00pm " It's all about SNATCH"\n\n1000m Row (split between partners)\n\n100 Alternating Box Jumps (50 each)\n\nAMRAP Snatch (only one person working at a time) General: 75/55\, (24/20)\n\nCaptain: 65/45\, step ups\n\nPrivate: 45/35\, step ups/lower box\n\nWOD 5: 1:00pm "Jump\, and give me Toes to Bar!"\n\nAs many rounds as possible of THRUSTERS\, following the rep scheme of 3-6-9-12-15- 18-21-24...etc\, each partner to complete the full number of reps in each round before passing the bar\, bar must not touch the ground when switching:\n\n*Bar CANNOT be dropped\, must be passed body to body between rounds. If the bar is dropped\, both partners must complete the same number of TTB for the round they were incomplete on with the Thrusters. Ie: If the bar is dropped on round 12 of the Thrusters\, both partners are to complete 12 TTB TOTAL (one working at a time)\, then go back to round 12 of Thrusters. Score is total completed Thrusters\, with Pullups as the tie breaker. General: 95/65\n\nCaptain: 75/55\, KNE Private: 55/35\, Knee raises\n\nWOD 6: 2:00pm " Mini MURPH:\n\n400m RUN together 100 Pull ups\n\n150 Pushups\n\n300 air squats\n\n400m RUN together\n\n*only one person working at a time\, reps to be split between partners.
X-ALT-DESC;FMTTYPE=text/html:We are hosting a fundraiser to help support Korby&rsquo\;s trip for Semifinals as he attempts to make the Crossfit Games! He will travel to Orlando May 19-21st. All funds will help pay for our gyms travel\, lodging\, and food! We are going to try to help everyone who wants to go support get the chance to do so! Message us if you plan on attending!<br />\nAll workouts will be partnered. 10min time cap on all WOD&rsquo\;s except the 6th and final WOD. All WOD&rsquo\;s can be scaled to meet all levels of fitness using the following zoning: General= RX<br />\nCaptain= Zone 1\, First scaling<br />\nPrivate= Zone 2-3\, Second scaling<br />\nWOD 1: 9:00am: &ldquo\;Partner ANNIE&rdquo\;<br />\nFor Time: 50-40-30-20-10 Double Unders and Situps<br />\n*Only one partner works at a time. Each to complete the full rep scheme of Annie. General: DU and situps as prescribed<br />\nCaptain: 2x single skips (100-80-60-40-20)\, option for wall/wt<br />\nPrivate: 1xsingle skips (50-40-30-20-10) wall/wt for sit ups<br />\nWOD 2: 10:00am: &ldquo\;GI JANE&rdquo\;<br />\n100 Burpee Pull ups for time<br />\n*only one person working at a time\, reps are to be split between the partners in any way (ie\, 50 each).<br />\nGeneral: burpee chin over bar\, kipping or strict<br />\nCaptain: burpee knee raise<br />\nPrivate: burpee bar touch<br />\nWOD 3: 11:00am: &ldquo\;Double Time&rdquo\;<br />\nAMRAP the following\, on 30 sec rest/transition 2min AMRAP Deadlifts<br />\n2min AMRAP Ground to Shoulder<br />\n2min AMRAP Shoulder to Overhead<br />\n2min AMRAP Front Squat<br />\n*Only one partner working at a time. General: 135/95<br />\nCaptain: 95/65<br />\nPrivate: 65/45<br />\nWOD 4: 12:00pm &ldquo\; It&rsquo\;s all about SNATCH&rdquo\;<br />\n1000m Row (split between partners)<br />\n100 Alternating Box Jumps (50 each)<br />\nAMRAP Snatch (only one person working at a time) General: 75/55\, (24/20)<br />\nCaptain: 65/45\, step ups<br />\nPrivate: 45/35\, step ups/lower box<br />\nWOD 5: 1:00pm &ldquo\;Jump\, and give me Toes to Bar!&rdquo\;<br />\nAs many rounds as possible of THRUSTERS\, following the rep scheme of 3-6-9-12-15- 18-21-24...etc\, each partner to complete the full number of reps in each round before passing the bar\, bar must not touch the ground when switching:<br />\n*Bar CANNOT be dropped\, must be passed body to body between rounds. If the bar is dropped\, both partners must complete the same number of TTB for the round they were incomplete on with the Thrusters. Ie: If the bar is dropped on round 12 of the Thrusters\, both partners are to complete 12 TTB TOTAL (one working at a time)\, then go back to round 12 of Thrusters. Score is total completed Thrusters\, with Pullups as the tie breaker. General: 95/65<br />\nCaptain: 75/55\, KNE Private: 55/35\, Knee raises<br />\nWOD 6: 2:00pm &ldquo\; Mini MURPH:<br />\n400m RUN together 100 Pull ups<br />\n150 Pushups<br />\n300 air squats<br />\n400m RUN together<br />\n*only one person working at a time\, reps to be split between partners.&nbsp\;
LOCATION:MacTown - 212 Collins Avenue\, Macomb
UID:e.2125.13012
SEQUENCE:3
DTSTAMP:20260423T221546Z
URL:https://business.macombareachamber.com/events/details/6-hour-crossfit-wod-fundraiser-13012
END:VEVENT

END:VCALENDAR
