BEGIN:VCALENDAR
VERSION:2.0
PRODID:-//ChamberMaster//Event Calendar 2.0//EN
METHOD:PUBLISH
X-PUBLISHED-TTL:P3D
REFRESH-INTERVAL:P3D
CALSCALE:GREGORIAN
BEGIN:VEVENT
DTSTART;VALUE=DATE:20231020
DTEND;VALUE=DATE:20231030
TRANSP:TRANSPARENT
X-MICROSOFT-CDO-ALLDAYEVENT:TRUE
SUMMARY:5-Day Western Illinois Deer Hunt
DESCRIPTION:PRICE DROP!   Now available for only  1  \,5  0  0   per person  \n\nClaim your spot now! Hunt deer & make a lasting impact in the lives of teens! Call (309)333-6186 to claim your spot or get more info!
X-ALT-DESC;FMTTYPE=text/html:&#128178\; PRICE DROP! &#128178\; Now available for only &#128178\;1&#65039\;&#8419\;\,5&#65039\;&#8419\;0&#65039\;&#8419\;0&#65039\;&#8419\; per person&#10071\;&#65039\;<br />\nClaim your spot now! Hunt deer &amp\; make a lasting impact in the lives of teens! Call (309)333-6186 to claim your spot or get more info!
LOCATION:
UID:e.2125.13788
SEQUENCE:3
DTSTAMP:20260422T140345Z
URL:https://business.macombareachamber.com/events/details/5-day-western-illinois-deer-hunt-13788
END:VEVENT

END:VCALENDAR
