BEGIN:VCALENDAR
VERSION:2.0
PRODID:-//ChamberMaster//Event Calendar 2.0//EN
METHOD:PUBLISH
X-PUBLISHED-TTL:P3D
REFRESH-INTERVAL:P3D
CALSCALE:GREGORIAN
BEGIN:VEVENT
DTSTART:20230831T210000Z
DTEND:20230901T000000Z
X-MICROSOFT-CDO-ALLDAYEVENT:FALSE
SUMMARY:4th Annual Purses to Inspire
DESCRIPTION:Grab some friends & come browse\, shop and unwind with some food & cocktails. \n\n\n\nAn adult only evening at the Discovery Depot Children's Museum. All types of purses from designer brands\, casual & formal- to even something for your little princess. \n\n\n\nRaffles\, Silent Auction and Vendors!\n\n\n\nTickets may purchased in person or online @\n\nhttps://sales.discoverydepot.org/Performance.aspx?pid=7070&cal=https%3a%2f%2fsales.discoverydepot.org%3a443%2fcalendar.aspx\n\n\n\n$30 in advance \n\n$35 at the door
X-ALT-DESC;FMTTYPE=text/html:Grab some friends &amp\; come browse\, shop and unwind with some food &amp\; cocktails.&nbsp\;<br />\n<br />\nAn adult only evening at the Discovery Depot Children&#39\;s Museum. All types of purses from designer brands\, casual &amp\; formal- to even something for your little princess.&nbsp\;<br />\n<br />\nRaffles\, Silent Auction and Vendors!<br />\n<br />\nTickets may purchased in person or online @<br />\nhttps://sales.discoverydepot.org/Performance.aspx?pid=7070&amp\;cal=https%3a%2f%2fsales.discoverydepot.org%3a443%2fcalendar.aspx<br />\n<br />\n$30 in advance&nbsp\;<br />\n$35 at the door
LOCATION:Discovery Depot Children's Museum 128 S Chambers St Galesburg\, IL\, 61401
UID:e.2125.13653
SEQUENCE:3
DTSTAMP:20260423T162807Z
URL:https://business.macombareachamber.com/events/details/4th-annual-purses-to-inspire-13653
END:VEVENT

END:VCALENDAR
