BEGIN:VCALENDAR
VERSION:2.0
PRODID:-//ChamberMaster//Event Calendar 2.0//EN
METHOD:PUBLISH
X-PUBLISHED-TTL:P3D
REFRESH-INTERVAL:P3D
CALSCALE:GREGORIAN
BEGIN:VEVENT
DTSTART:20230420T150000Z
DTEND:20230421T010000Z
X-MICROSOFT-CDO-ALLDAYEVENT:FALSE
SUMMARY:420 Day at Windy City Cannabis
DESCRIPTION:It's 420 Day at Windy City Cannabis. Look for in-store promos\, products\, and an on-site food vendor to help celebrate the day.
X-ALT-DESC;FMTTYPE=text/html:It&#39\;s 420 Day at Windy City Cannabis. Look for in-store promos\, products\, and an on-site food vendor to help celebrate the day.&nbsp\;
LOCATION:Windy City Cannabis - 518 W. Jackson Street\, Macomb
UID:e.2125.13013
SEQUENCE:3
DTSTAMP:20260423T222412Z
URL:https://business.macombareachamber.com/events/details/420-day-at-windy-city-cannabis-13013
END:VEVENT

END:VCALENDAR
