BEGIN:VCALENDAR
VERSION:2.0
PRODID:-//ChamberMaster//Event Calendar 2.0//EN
METHOD:PUBLISH
X-PUBLISHED-TTL:P3D
REFRESH-INTERVAL:P3D
CALSCALE:GREGORIAN
BEGIN:VEVENT
DTSTART:20220901T213000Z
DTEND:20220902T000000Z
X-MICROSOFT-CDO-ALLDAYEVENT:FALSE
SUMMARY:3rd Annual Purses to Inspire
DESCRIPTION:Grab some friends & come browse\, shop and unwind with some food & cocktails. An adult only evening at the Discovery Depot Children's Museum. $25 per ticket. Includes food & drinks. Doors open at 4:30pm. Silent Auction Closes at 6:30pm.\n\n\n\nPurchase tickets at Discovery Depot or online at\n\n\n\nhttps://sales.discoverydepot.org/Performance.aspxpid=6186&cal=https%3a%2f%2fsales.discoverydepot.org%3a443%2fcalendar.aspx
X-ALT-DESC;FMTTYPE=text/html:Grab some friends &amp\; come browse\, shop and unwind with some food &amp\; cocktails. An adult only evening at the Discovery Depot Children&#39\;s Museum. $25 per ticket. Includes food &amp\; drinks. Doors open at 4:30pm. Silent Auction Closes at 6:30pm.<br />\n<br />\nPurchase tickets at Discovery Depot or online at<br />\n<br />\nhttps://sales.discoverydepot.org/Performance.aspxpid=6186&amp\;cal=https%3a%2f%2fsales.discoverydepot.org%3a443%2fcalendar.aspx
LOCATION:Discovery Depot Children's Museum 128 S Chambers St Galesburg\, IL\, 61401
UID:e.2125.9919
SEQUENCE:3
DTSTAMP:20260423T085029Z
URL:https://business.macombareachamber.com/events/details/3rd-annual-purses-to-inspire-9919
END:VEVENT

END:VCALENDAR
