BEGIN:VCALENDAR
VERSION:2.0
PRODID:-//ChamberMaster//Event Calendar 2.0//EN
METHOD:PUBLISH
X-PUBLISHED-TTL:P3D
REFRESH-INTERVAL:P3D
CALSCALE:GREGORIAN
BEGIN:VEVENT
DTSTART;VALUE=DATE:20230812
DTEND;VALUE=DATE:20230813
TRANSP:TRANSPARENT
X-MICROSOFT-CDO-ALLDAYEVENT:TRUE
SUMMARY:34th Annual Purple & Gold Auction
DESCRIPTION:The 34th Annual Purple and Gold Auction will be held on Saturday\, August 12 in the Grand Ballroom of the University Union in Macomb.\n\n\n\nWhile Western Hall's basketball court is being refinished for the 2023-24 sport seasons\, the gala will return to a familiar location on the WIU campus. The Grand Ballroom is currently undergoing some renovations and the gala will be one of the first events to take place in the updated space. \n\n \n\nRegistration is now open! New items are posted daily\, so keep checking back to see the new items that will be available at the event.\n\n \n\nIndividual registration seating will be on a first-come-first-serve basis. Reserved seating is available by purchasing a table of eight under the table registration tab.\n\n \n\nLive Program\n\nDoors Open\, Silent Auction Begins: 5:00 PM\n\nFood Stations Open: 5:30 PM\n\nSilent Auction Closes\, Program Begins: 6:45 PM\n\nLive Auction Begins: 7:15 PM\n\n\n\nItem Delivery - Online Auction\n\nItems will be shipped at bidder's expense. Bidder will be given an estimate\, but won't be charged until final bill is received from UPS.  \n\n\n\nSign In/Create Account - In order to visit secure areas of the website\, you'll be prompted to enter your "Last Name" and "Password". If you don't have an existing record or password\, you'll have an opportunity to create one.\n\n\n\nView Your Account- Click the My Bids/Account link above to view a current list of your donations.\n\n\n\nBrowse the Online Catalog- Click one of the categories on your left to view the catalog. You can then click the name or image of any item listed to view a larger image and the item details. For your convenience\, you can keep track of your favorite items by adding them to your " Wish List ".\n\n\n\nDonate an Item -  If you would like to donate an auction please complete the donation form.\n\n \n\n \n\nFrequently Asked Questions \n\nQ: How do I register for the Purple & Gold Auction?\n\n\n\nA: You can register online by visiting wiu.maestroweb.com or by calling (309) 298-1190. Tickets for Purple & Gold are $45.\n\n\n\n\n\nQ: Will I have a reserved seat at a table once I am registered?\n\n\n\nA: No! Only groups who register at once with a payment of $360 will have their seats reserved. All other seats will be on a first come first serve basis.\n\n\n\n\n\nQ: Are reserved tables only available with a credit card purchase?\n\n\n\nA: Reserved tables can be purchased with checks or cash\, the total has to be $360\, however. Multiple checks totaling $360 in the same envelope will also be accepted.\n\n\n\nQ: Is there a benefit to saving my credit card on file while registering on wiu.maestroweb.com?\n\n\n\nA: Yes! Saving a credit card on file will allow you to skip the checkout line following the event. Your card will be saved with your bidder number and you will automatically be charged for any items you win during Purple & Gold!\n\n\n\nQ: Can I register at the door and pay for my items with cash or a check?\n\n\n\nA: Yes\, although we do recommend registering in advance and saving a credit card on file as it will cut down on lines following the event.\n\n\n\nQ: If I am sitting at a table that was reserved by someone else\, do I need to register?\n\n\n\nA: No\, the person who purchased the table will need to register all guests seated at that table and can do so immediately following the purchase.
X-ALT-DESC;FMTTYPE=text/html:The 34th Annual Purple and Gold Auction will be held on Saturday\, August 12 in the Grand Ballroom of the University Union in Macomb.<br />\n<br />\nWhile Western Hall&rsquo\;s basketball court is being refinished for the 2023-24 sport seasons\, the gala will return to a familiar location on the WIU campus. The Grand Ballroom is currently undergoing some renovations and the gala will be one of the first events to take place in the updated space.&nbsp\;<br />\n&nbsp\;<br />\nRegistration is now open! New items are posted daily\, so keep checking back to see the new items that will be available at the event.<br />\n&nbsp\;<br />\nIndividual registration seating will be on a first-come-first-serve basis. Reserved seating is available by purchasing a table of eight under the table registration tab.<br />\n&nbsp\;<br />\nLive Program<br />\nDoors Open\, Silent Auction Begins: 5:00 PM<br />\nFood Stations Open: 5:30 PM<br />\nSilent Auction Closes\, Program Begins: 6:45 PM<br />\nLive Auction Begins: 7:15 PM<br />\n<br />\nItem Delivery - Online Auction<br />\nItems will be shipped at bidder&rsquo\;s expense. Bidder will be given an estimate\, but won&rsquo\;t be charged until final bill is received from UPS.&nbsp\;&nbsp\;<br />\n<br />\nSign In/Create Account - In order to visit secure areas of the website\, you&#39\;ll be prompted to enter your &quot\;Last Name&quot\; and &quot\;Password&quot\;. If you don&#39\;t have an existing record or password\, you&#39\;ll have an opportunity to create one.<br />\n<br />\nView Your Account- Click the My Bids/Account link above to view a current list of your donations.<br />\n<br />\nBrowse the Online Catalog- Click one of the categories on your left to view the catalog. You can then click the name or image of any item listed to view a larger image and the item details. For your convenience\, you can keep track of your favorite items by adding them to your &quot\; Wish List &quot\;.<br />\n<br />\nDonate an Item -&nbsp\; If you would like to donate an auction please complete the donation form.<br />\n&nbsp\;<br />\n&nbsp\;<br />\nFrequently Asked Questions&nbsp\;<br />\nQ: How do I register for the Purple &amp\; Gold Auction?<br />\n<br />\nA: You can register online by visiting wiu.maestroweb.com or by calling (309) 298-1190. Tickets for Purple &amp\; Gold are $45.<br />\n<br />\n<br />\nQ: Will I have a reserved seat at a table once I am registered?<br />\n<br />\nA: No! Only groups who register at once with a payment of $360 will have their seats reserved. All other seats will be on a first come first serve basis.<br />\n<br />\n<br />\nQ: Are reserved tables only available with a credit card purchase?<br />\n<br />\nA: Reserved tables can be purchased with checks or cash\, the total has to be $360\, however. Multiple checks totaling $360 in the same envelope will also be accepted.<br />\n<br />\nQ: Is there a benefit to saving my credit card on file while registering on wiu.maestroweb.com?<br />\n<br />\nA: Yes! Saving a credit card on file will allow you to skip the checkout line following the event. Your card will be saved with your bidder number and you will automatically be charged for any items you win during Purple &amp\; Gold!<br />\n<br />\nQ: Can I register at the door and pay for my items with cash or a check?<br />\n<br />\nA: Yes\, although we do recommend registering in advance and saving a credit card on file as it will cut down on lines following the event.<br />\n<br />\nQ: If I am sitting at a table that was reserved by someone else\, do I need to register?<br />\n<br />\nA: No\, the person who purchased the table will need to register all guests seated at that table and can do so immediately following the purchase.
LOCATION:Western Illinois University Union - University Ballroom
UID:e.2125.13613
SEQUENCE:3
DTSTAMP:20260423T163357Z
URL:https://business.macombareachamber.com/events/details/34th-annual-purple-gold-auction-13613
END:VEVENT

END:VCALENDAR
