BEGIN:VCALENDAR
VERSION:2.0
PRODID:-//ChamberMaster//Event Calendar 2.0//EN
METHOD:PUBLISH
X-PUBLISHED-TTL:P3D
REFRESH-INTERVAL:P3D
CALSCALE:GREGORIAN
BEGIN:VEVENT
DTSTART;VALUE=DATE:20220909
DTEND;VALUE=DATE:20220910
TRANSP:TRANSPARENT
X-MICROSOFT-CDO-ALLDAYEVENT:TRUE
SUMMARY:23rd Annual MDH Foundation Golf Tournament
DESCRIPTION:23rd Annual Golf Tournament. You are invited to participate in the 23rd Annual McDonough District Hospital Golf Tournament.\n\n\n\n4-Person Scramble | $100 per person Includes 18 holes of golf with cart\, lunch\, dinner\, MDH Under Armour 1/4 zip\, sleeve of golf balls\, hole and raffle prizes\, and more! Prizes for 1st\, 2nd & 3rd in two flights Registration closes when field is full Dinner and awards ceremony following golf.\n\n\n\nThis year all funds raised will support the purchase of a new CT scanner. MDH is committed to advancing healthcare in our community and\n\nproviding compassionate care to our patients. Your participation supports our efforts.
X-ALT-DESC;FMTTYPE=text/html:23rd Annual Golf Tournament. You are invited to participate in the 23rd Annual McDonough District Hospital Golf Tournament.<br />\n<br />\n4-Person Scramble | $100 per person Includes 18 holes of golf with cart\, lunch\, dinner\, MDH Under Armour 1/4 zip\, sleeve of golf balls\, hole and raffle prizes\, and more! Prizes for 1st\, 2nd &amp\; 3rd in two flights Registration closes when field is full Dinner and awards ceremony following golf.<br />\n<br />\nThis year all funds raised will support the purchase of a new CT scanner. MDH is committed to advancing healthcare in our community and<br />\nproviding compassionate care to our patients. Your participation supports our efforts.
LOCATION:Harry Mussatto Golf Course - 1215 Tower Road\, Macomb.
UID:e.2125.9895
SEQUENCE:3
DTSTAMP:20260423T085332Z
URL:https://business.macombareachamber.com/events/details/23rd-annual-mdh-foundation-golf-tournament-9895
END:VEVENT

END:VCALENDAR
