BEGIN:VCALENDAR
VERSION:2.0
PRODID:-//ChamberMaster//Event Calendar 2.0//EN
METHOD:PUBLISH
X-PUBLISHED-TTL:P3D
REFRESH-INTERVAL:P3D
CALSCALE:GREGORIAN
BEGIN:VEVENT
DTSTART;VALUE=DATE:20250405
DTEND;VALUE=DATE:20250406
TRANSP:TRANSPARENT
X-MICROSOFT-CDO-ALLDAYEVENT:TRUE
SUMMARY:2025 PAS Gala
DESCRIPTION:Join the Performing Arts Society for its annual gala. \n\nBringing Broadway to Macomb\n\nAn Evening with Melody A. Betts\n\n\n\nApril 5\, 2025\n\n5:30 pm\n\nin the WIU Union Grand Ballroom\n\n\n\nIndividual Tickets - $100 per person\n\nCorporate Table - $850 per table\n\n(includes two bottles of wine\, premier seating\, & signage)\n\n\n\nBottle of wine - $25 per bottle\n\nRed or white\n\n\n\nMeal Options (Buffet style)\n\n\n\nEntree: Peppered Beef Tenderloin\; Pork Tenderloin with apple cider glaze\; or Vegetarian Penne Asparagus and Fontina Cheese\n\n\n\nSides: House Salad\; Waldorf Salad\; Crispy Glazed Brussel Sprouts\, and Roasted Red Potatoes\n\n\n\nDesserts: New York Style Cheesecake or Black and White Cookies
X-ALT-DESC;FMTTYPE=text/html:Join the Performing Arts Society for its annual gala.&nbsp\;<br />\nBringing Broadway to Macomb<br />\nAn Evening with Melody A. Betts<br />\n<br />\nApril 5\, 2025<br />\n5:30 pm<br />\nin the WIU Union Grand Ballroom<br />\n<br />\nIndividual Tickets - $100 per person<br />\nCorporate Table - $850 per table<br />\n(includes two bottles of wine\, premier seating\, &amp\; signage)<br />\n<br />\nBottle of wine - $25 per bottle<br />\nRed or white<br />\n<br />\nMeal Options (Buffet style)<br />\n<br />\nEntree: Peppered Beef Tenderloin\; Pork Tenderloin with apple cider glaze\; or Vegetarian Penne Asparagus and Fontina Cheese<br />\n<br />\nSides: House Salad\; Waldorf Salad\; Crispy Glazed Brussel Sprouts\, and Roasted Red Potatoes<br />\n<br />\nDesserts: New York Style Cheesecake or Black and White Cookies<br />\n<br />\n<br />\n<br />\n<br />\n<br />\n&nbsp\;
LOCATION:
UID:e.2125.18737
SEQUENCE:3
DTSTAMP:20260420T112556Z
URL:https://business.macombareachamber.com/events/details/2025-pas-gala-18737
END:VEVENT

END:VCALENDAR
