BEGIN:VCALENDAR
VERSION:2.0
PRODID:-//ChamberMaster//Event Calendar 2.0//EN
METHOD:PUBLISH
X-PUBLISHED-TTL:P3D
REFRESH-INTERVAL:P3D
CALSCALE:GREGORIAN
BEGIN:VEVENT
DTSTART;VALUE=DATE:20250623
DTEND;VALUE=DATE:20250624
TRANSP:TRANSPARENT
X-MICROSOFT-CDO-ALLDAYEVENT:TRUE
SUMMARY:2025 Macomb Area Chamber Golf Outing - SOLD OUT
DESCRIPTION:We are SOLD OUT!\n\n\n\nJoin us for a day of golf\, networking\, and fun at the annual Macomb Area Chamber Golf Outing! This signature event brings together business and community leaders for a relaxing day on the greens\, complete with exciting contests\, great prizes\, and plenty of opportunities to connect.\n\n\n\nIncludes:\n\n	18 Holes of Golf with Cart: Enjoy a full round of golf at the beautiful Harry Mussatto Golf Course.\n	Buffet Breakfast: Start your day with a hearty breakfast\, sponsored by Sodexo. Menu features breakfast sandwiches\, fruit cups\, hash browns\, pastries\, coffee\, and orange juice. \n	Catered Lunch: Delicious lunch served after the game. Sponsored by MidAmerica National Bank.\n	Premium Snacks: An array of delicious choices thanks to McDonough District Hospital. \n	Swag: Exclusive event merchandise and goodies by Pella.\n	Games and Prizes: Fun games and exciting prizes!\n	Hole-in-One Contest: Hit a hole-in-one to win a brand new Ford Bronco Sport courtesy of Woodrum Automotive.
X-ALT-DESC;FMTTYPE=text/html:<span style="font-size:14px\;">We are SOLD OUT!<br />\n<br />\nJoin us for a day of golf\, networking\, and fun at the annual Macomb Area Chamber Golf Outing! This signature event brings together business and community leaders for a relaxing day on the greens\, complete with exciting contests\, great prizes\, and plenty of opportunities to connect.<br />\n<br />\n<strong style="color: rgb(51\, 51\, 51)\; font-family: sans-serif\, Arial\, Verdana\, &quot\;Trebuchet MS&quot\;\; font-size: 13px\;">Includes:</strong></span>\n<ul style="padding: 0px 40px\; color: rgb(51\, 51\, 51)\; font-family: sans-serif\, Arial\, Verdana\, &quot\;Trebuchet MS&quot\;\; font-size: 13px\;">\n	<li><span style="font-size:14px\;"><strong>18 Holes of Golf with Cart:</strong>&nbsp\;Enjoy a full round of golf at the beautiful Harry Mussatto Golf Course.</span></li>\n	<li><span style="font-size:14px\;"><strong>Buffet Breakfast:</strong>&nbsp\;Start your day with a hearty breakfast\, sponsored by Sodexo. Menu features breakfast sandwiches\, fruit cups\, hash browns\, pastries\, coffee\, and orange juice.&nbsp\;</span></li>\n	<li><span style="font-size:14px\;"><strong>Catered Lunch:</strong>&nbsp\;Delicious lunch served after the game. Sponsored by MidAmerica National Bank.</span></li>\n	<li><span style="font-size:14px\;"><strong>Premium Snacks</strong>: An array of delicious choices thanks to McDonough District Hospital.&nbsp\;</span></li>\n	<li><span style="font-size:14px\;"><strong>Swag:</strong>&nbsp\;Exclusive event merchandise and goodies by Pella.</span></li>\n	<li><span style="font-size:14px\;"><strong>Games and Prizes:</strong>&nbsp\;Fun games and exciting prizes!</span></li>\n	<li><strong><span style="font-size:14px\;">Hole-in-One Contest:&nbsp\;</span></strong><span style="font-size:14px\;">Hit a hole-in-one to win a brand new Ford Bronco Sport courtesy of Woodrum Automotive. </span></li>\n</ul>\n
LOCATION:Harry Mussatto Golf Course 1215 Tower Road Macomb\, IL
UID:e.2125.18785
SEQUENCE:3
DTSTAMP:20260420T083550Z
URL:https://business.macombareachamber.com/events/details/2025-macomb-area-chamber-golf-outing-sold-out-18785
END:VEVENT

END:VCALENDAR
