BEGIN:VCALENDAR
VERSION:2.0
PRODID:-//ChamberMaster//Event Calendar 2.0//EN
METHOD:PUBLISH
X-PUBLISHED-TTL:P3D
REFRESH-INTERVAL:P3D
CALSCALE:GREGORIAN
BEGIN:VEVENT
DTSTART:20241023T121500Z
DTEND:20241023T131500Z
X-MICROSOFT-CDO-ALLDAYEVENT:FALSE
SUMMARY:2024 Business Before Hours
DESCRIPTION:Join us for a morning of fun\, informal networking with your fellow business professionals as the Graham Health Systems hosts Business Before Hours. All Chamber members are welcome to attend.
X-ALT-DESC;FMTTYPE=text/html:Join us for a morning of fun\, informal networking with your fellow business professionals as the Graham Health Systems hosts Business Before Hours. All Chamber members are welcome to attend.
LOCATION:1630 E. Jackson St. Macomb\, Illinois
UID:e.2125.15418
SEQUENCE:3
DTSTAMP:20260422T054310Z
URL:https://business.macombareachamber.com/events/details/2024-business-before-hours-15418
END:VEVENT

END:VCALENDAR
