BEGIN:VCALENDAR
VERSION:2.0
PRODID:-//ChamberMaster//Event Calendar 2.0//EN
METHOD:PUBLISH
X-PUBLISHED-TTL:P3D
REFRESH-INTERVAL:P3D
CALSCALE:GREGORIAN
BEGIN:VEVENT
DTSTART:20230408T140000Z
DTEND:20230408T210000Z
X-MICROSOFT-CDO-ALLDAYEVENT:FALSE
SUMMARY:2023 Western Horn Festival
DESCRIPTION:The 2023 Western Horn Festival will feature a fun day of horn related activities: a group warmup\, masterclasses\, horn choir\, Musician's Yoga\, and performances by our guest artist and attendees. This year's featured guest artist is Dr. Lin Foulk Baird\, professor of horn at Western Michigan University. Other artists include Stasia Siena\, Yeon-kyung Kim\, Dr. Randall Faust\, and WIU Horn Professor\, Dr. Jena Gardner.\n\n\n\nAll ages and abilities are welcome!\n\n\n\nThis event is hosted by Dr. Jena Gardner and sponsored by the WIU Horn Institute and the Performing Arts Society.\n\n\n\nSchedule:\n\n9 am | Group Warmup | Dr. Jena Gardner\n\n\n\n10 am | Yoga for Musicians | Stasia Siena\n\n\n\n11 am | Guest Artist Masterclass with Roger Collins Award Finalists | Dr. Lin Foulk Baird\n\n\n\n12:30 pm | Lunch\n\n\n\n1:30 pm | Horn Festival Choir Rehearsal | Dr. Randall Faust\n\n\n\n2:30 pm | Break\n\n\n\n3:00 pm | Final Concert | Dr. Lin Foulk Baird\, horn\; Yeon-Kyung Kim\, piano\, & the WIU Horn Festival Choir\n\n\n\nRoger Collins Award for High School Hornists\n\nThis award is in memory of ROGER COLLINS - The founding Hornist of the Camerata Woodwind Quintet and Horn Professor at Western Illinois University from 1966-1997.\n\n\n\nAll High School students are encouraged to apply.\n\n\n\nRules\n\n\n\nApplicants must be current high school school students and registered for the 2023 Western Horn Festival.\n\nUp to 5 finalists will be selected to perform a 5-7 minute solo of your choice on the Western Horn Festival Guest Artist Master Class.\n\nWinners will be selected by a panel of adjudicators including Western Horn Festival guest artists and Dr. Jena Gardner\, (Assistant Professor of Horn at Western Illinois University).\n\nUp to two winners will be chosen to receive the Roger Collins Award and a $100 cash prize.\n\nInterested? Check the "Yes" box indicating your application when you register!
X-ALT-DESC;FMTTYPE=text/html:The 2023 Western Horn Festival will feature a fun day of horn related activities: a group warmup\, masterclasses\, horn choir\, Musician&#39\;s Yoga\, and performances by our guest artist and attendees. This year&rsquo\;s featured guest artist is Dr. Lin Foulk Baird\, professor of horn at Western Michigan University. Other artists include Stasia Siena\, Yeon-kyung Kim\, Dr. Randall Faust\, and WIU Horn Professor\, Dr. Jena Gardner.<br />\n<br />\nAll ages and abilities are welcome!<br />\n<br />\nThis event is hosted by Dr. Jena Gardner and sponsored by the WIU Horn Institute and the Performing Arts Society.<br />\n<br />\nSchedule:<br />\n9 am | Group Warmup | Dr. Jena Gardner<br />\n<br />\n10 am | Yoga for Musicians | Stasia Siena<br />\n<br />\n11 am | Guest Artist Masterclass with Roger Collins Award Finalists | Dr. Lin Foulk Baird<br />\n<br />\n12:30 pm | Lunch<br />\n<br />\n1:30 pm | Horn Festival Choir Rehearsal | Dr. Randall Faust<br />\n<br />\n2:30 pm | Break<br />\n<br />\n3:00 pm | Final Concert | Dr. Lin Foulk Baird\, horn\; Yeon-Kyung Kim\, piano\, &amp\; the WIU Horn Festival Choir<br />\n<br />\nRoger Collins Award for High School Hornists<br />\nThis award is in memory of ROGER COLLINS - The founding Hornist of the Camerata Woodwind Quintet and Horn Professor at Western Illinois University from 1966-1997.<br />\n<br />\nAll High School students are encouraged to apply.<br />\n<br />\nRules<br />\n<br />\nApplicants must be current high school school students and registered for the 2023 Western Horn Festival.<br />\nUp to 5 finalists will be selected to perform a 5-7 minute solo of your choice on the Western Horn Festival Guest Artist Master Class.<br />\nWinners will be selected by a panel of adjudicators including Western Horn Festival guest artists and Dr. Jena Gardner\, (Assistant Professor of Horn at Western Illinois University).<br />\nUp to two winners will be chosen to receive the Roger Collins Award and a $100 cash prize.<br />\nInterested? Check the &quot\;Yes&quot\; box indicating your application when you register!<br />\n&nbsp\;
LOCATION:COFAC Recital Hall 1020 Simpkins Circle Macomb\, IL 61455
UID:e.2125.12782
SEQUENCE:3
DTSTAMP:20260423T233327Z
URL:https://business.macombareachamber.com/events/details/2023-western-horn-festival-12782
END:VEVENT

END:VCALENDAR
