BEGIN:VCALENDAR
VERSION:2.0
PRODID:-//ChamberMaster//Event Calendar 2.0//EN
METHOD:PUBLISH
X-PUBLISHED-TTL:P3D
REFRESH-INTERVAL:P3D
CALSCALE:GREGORIAN
BEGIN:VEVENT
DTSTART:20230426T140000Z
DTEND:20230426T210000Z
X-MICROSOFT-CDO-ALLDAYEVENT:FALSE
SUMMARY:2023 Pete Tarantola Interagency Community Conference - Diversity\, Equity and Inclusion
DESCRIPTION:
X-ALT-DESC;FMTTYPE=text/html:
LOCATION:Spoon River College Outreach Center - 2500 E. Jackson St.\, Macomb
UID:e.2125.10364
SEQUENCE:3
DTSTAMP:20260423T235823Z
URL:https://business.macombareachamber.com/events/details/2023-pete-tarantola-interagency-community-conference-diversity-equity-and-inclusion-10364
END:VEVENT

END:VCALENDAR
