BEGIN:VCALENDAR
VERSION:2.0
PRODID:-//ChamberMaster//Event Calendar 2.0//EN
METHOD:PUBLISH
X-PUBLISHED-TTL:P3D
REFRESH-INTERVAL:P3D
CALSCALE:GREGORIAN
BEGIN:VEVENT
DTSTART:20220711T140000Z
DTEND:20220711T160000Z
X-MICROSOFT-CDO-ALLDAYEVENT:FALSE
SUMMARY:2022 Macomb Girls Basketball 4th-6th Grade Summer Camp
DESCRIPTION:Girls Entering 4-6th grade year in 2022-23. Cost is $50. Participants will receive camp T-shirt. Please make checks payable to MHS Girls Basketball. Sign-up forms and money can be turned in to your respective school's office. Deadline for sign up is May 23 to allow for T-shirt orders.
X-ALT-DESC;FMTTYPE=text/html:Girls Entering 4-6th grade year in 2022-23. Cost is $50. Participants will receive camp T-shirt. Please make checks payable to MHS Girls Basketball. Sign-up forms and money can be turned in to your respective school&#39\;s office. Deadline for sign up is May 23 to allow for T-shirt orders.&nbsp\;
LOCATION:Washington Street Gym - 323 West Washington Street\, Macomb
UID:e.2125.8427
SEQUENCE:3
DTSTAMP:20260422T120749Z
URL:https://business.macombareachamber.com/events/details/2022-macomb-girls-basketball-4th-6th-grade-summer-camp-8427
END:VEVENT

END:VCALENDAR
