BEGIN:VCALENDAR
VERSION:2.0
PRODID:-//ChamberMaster//Event Calendar 2.0//EN
METHOD:PUBLISH
X-PUBLISHED-TTL:P3D
REFRESH-INTERVAL:P3D
CALSCALE:GREGORIAN
BEGIN:VEVENT
DTSTART:20220916T180000Z
DTEND:20220916T200000Z
X-MICROSOFT-CDO-ALLDAYEVENT:FALSE
SUMMARY:18th Annual Big Picture Picnic
DESCRIPTION:Members of the WIU community are invited to attend the 18th annual Big Picture Picnic Friday\, Sept. 16 hosted by the LGBTQA Resource Center. The Big Picture Picnic is held each year as an opportunity for community building among the lesbian\, gay\, bisexual\, transgender\, queer/questioning\, asexual and allies within the campus community. The picnic will begin at 1 p.m. on the Multicultural Center lawn\, with the formal picture being taken promptly at 3 p.m. (individuals interested in taking part in the Big Picture should be there no later than 2:50 p.m.). All members and allies of the LGBT*QA community\, including family and friends\, are invited to take part in the photograph.
X-ALT-DESC;FMTTYPE=text/html:<span style="color: rgb(5\, 5\, 5)\; font-family: &quot\;Segoe UI Historic&quot\;\, &quot\;Segoe UI&quot\;\, Helvetica\, Arial\, sans-serif\; font-size: 15px\; white-space: pre-wrap\; background-color: rgb(255\, 255\, 255)\;">Members of the </span><span style="font-family: &quot\;Segoe UI Historic&quot\;\, &quot\;Segoe UI&quot\;\, Helvetica\, Arial\, sans-serif\; color: rgb(5\, 5\, 5)\; font-size: 15px\; white-space: pre-wrap\; background-color: rgb(255\, 255\, 255)\;"><a class="qi72231t nu7423ey n3hqoq4p r86q59rh b3qcqh3k fq87ekyn bdao358l fsf7x5fv rse6dlih s5oniofx m8h3af8h l7ghb35v kjdc1dyq kmwttqpk srn514ro oxkhqvkx rl78xhln nch0832m cr00lzj9 rn8ck1ys s3jn8y49 icdlwmnq cxfqmxzd d1w2l3lo tes86rjd" href="https://www.facebook.com/hashtag/wiu?__eep__=6&amp\;__cft__[0]=AZWhIx0PSSE2iZY5DMHlQ51PxqKfu7exIXockn9DiLTIgxh-b3ex-I1LmFRJbiMV3FZ6ABE5BCSorXhzg2F2jm9xmvZRiuvUrvetIYTZsbVRxkJ0uAp2M65RdHbuuIlV0RfYa4-MNzcq92DMKYoVmfp-WdPRE8CCORivv1_WhfdHvK3JYU_4fnzIp4hyUBEu-Po&amp\;__tn__=*NK-R" role="link" style="cursor: pointer\; text-decoration-line: none\; outline: none\; list-style: none\; border-width: 0px\; border-style: initial\; border-color: initial\; box-sizing: border-box\; text-align: inherit\; margin: 0px\; padding: 0px\; background-color: transparent\; -webkit-tap-highlight-color: transparent\; display: inline\; touch-action: manipulation\; font-family: inherit\;" tabindex="0">WIU</a></span><span style="color: rgb(5\, 5\, 5)\; font-family: &quot\;Segoe UI Historic&quot\;\, &quot\;Segoe UI&quot\;\, Helvetica\, Arial\, sans-serif\; font-size: 15px\; white-space: pre-wrap\; background-color: rgb(255\, 255\, 255)\;"> community are invited to attend the 18th annual Big Picture Picnic Friday\, Sept. 16 hosted by the </span><span style="font-family: &quot\;Segoe UI Historic&quot\;\, &quot\;Segoe UI&quot\;\, Helvetica\, Arial\, sans-serif\; color: rgb(5\, 5\, 5)\; font-size: 15px\; white-space: pre-wrap\; background-color: rgb(255\, 255\, 255)\;"><a class="qi72231t nu7423ey n3hqoq4p r86q59rh b3qcqh3k fq87ekyn bdao358l fsf7x5fv rse6dlih s5oniofx m8h3af8h l7ghb35v kjdc1dyq kmwttqpk srn514ro oxkhqvkx rl78xhln nch0832m cr00lzj9 rn8ck1ys s3jn8y49 icdlwmnq cxfqmxzd d1w2l3lo tes86rjd" href="https://www.facebook.com/WIU.LGBTQA?__cft__[0]=AZWhIx0PSSE2iZY5DMHlQ51PxqKfu7exIXockn9DiLTIgxh-b3ex-I1LmFRJbiMV3FZ6ABE5BCSorXhzg2F2jm9xmvZRiuvUrvetIYTZsbVRxkJ0uAp2M65RdHbuuIlV0RfYa4-MNzcq92DMKYoVmfp-WdPRE8CCORivv1_WhfdHvK3JYU_4fnzIp4hyUBEu-Po&amp\;__tn__=-]K-R" role="link" style="cursor: pointer\; text-decoration-line: none\; outline: none\; list-style: none\; border-width: 0px\; border-style: initial\; border-color: initial\; box-sizing: border-box\; text-align: inherit\; margin: 0px\; padding: 0px\; background-color: transparent\; -webkit-tap-highlight-color: transparent\; display: inline\; touch-action: manipulation\; font-family: inherit\;" tabindex="0"><span class="rse6dlih" style="display: inline\; font-family: inherit\;">LGBTQA Resource Center</span></a></span><span style="color: rgb(5\, 5\, 5)\; font-family: &quot\;Segoe UI Historic&quot\;\, &quot\;Segoe UI&quot\;\, Helvetica\, Arial\, sans-serif\; font-size: 15px\; white-space: pre-wrap\; background-color: rgb(255\, 255\, 255)\;">. The Big Picture Picnic is held each year as an opportunity for community building among the lesbian\, gay\, bisexual\, transgender\, queer/questioning\, asexual and allies within the campus community. The picnic will begin at 1 p.m. on the Multicultural Center lawn\, with the formal picture being taken promptly at 3 p.m. </span><span style="color: rgb(5\, 5\, 5)\; font-family: &quot\;Segoe UI Historic&quot\;\, &quot\;Segoe UI&quot\;\, Helvetica\, Arial\, sans-serif\; font-size: 15px\; white-space: pre-wrap\; background-color: rgb(255\, 255\, 255)\;">(individuals interested in taking part in the Big Picture should be there no later than 2:50 p.m.). All members and allies of the LGBT*QA community\, including family and friends\, are invited to take part in the photograph.</span>
LOCATION:Western Illinois University Macomb Campus - Multicultural Center
UID:e.2125.10269
SEQUENCE:3
DTSTAMP:20260423T085538Z
URL:https://business.macombareachamber.com/events/details/18th-annual-big-picture-picnic-10269
END:VEVENT

END:VCALENDAR
