BEGIN:VCALENDAR
VERSION:2.0
PRODID:-//ChamberMaster//Event Calendar 2.0//EN
METHOD:PUBLISH
X-PUBLISHED-TTL:P3D
REFRESH-INTERVAL:P3D
CALSCALE:GREGORIAN
BEGIN:VEVENT
DTSTART;VALUE=DATE:20220717
DTEND;VALUE=DATE:20220718
TRANSP:TRANSPARENT
X-MICROSOFT-CDO-ALLDAYEVENT:TRUE
SUMMARY:14th Annual Gimme Shelter Kris Moore Memorial Golf Outing
DESCRIPTION:Sunday July 17\, 2022\, 8:30 am Gold Hills Course 14th ANNUAL GIMME SHELTER Kris Moore Memorial Golf tournament to benefit the McDonough County Humane Society. $50.00 per person\, plus 20 lbs. of kitty litter per team. Scramble format\, hole prizes\, raffle\, many many prizes. Grilled lunch included. Prizes for the ladies as well as the mutts. RSVP to Max Huffman at the Downstairs\, or Lee Trotter at  309-371-9295\, or leetrotter@mtcnow.net or Danny Torrance at Gold Hills (309) 837-2930. We can put you on a team if you wish. We look forward to seeing you again!
X-ALT-DESC;FMTTYPE=text/html:Sunday July 17\, 2022\, 8:30 am Gold Hills Course 14th ANNUAL GIMME SHELTER Kris Moore Memorial Golf tournament to benefit the McDonough County Humane Society. $50.00 per person\, plus 20 lbs. of kitty litter per team. Scramble format\, hole prizes\, raffle\, many many prizes. Grilled lunch included. Prizes for the ladies as well as the mutts. RSVP to Max Huffman at the Downstairs\, or Lee Trotter at&nbsp\; 309-371-9295\, or leetrotter@mtcnow.net or Danny Torrance at Gold Hills (309) 837-2930. We can put you on a team if you wish. We look forward to seeing you again!
LOCATION:Gold Hills Golf Club - 10980 E 900th St\, Colchester\, IL
UID:e.2125.9863
SEQUENCE:3
DTSTAMP:20260422T120528Z
URL:https://business.macombareachamber.com/events/details/14th-annual-gimme-shelter-kris-moore-memorial-golf-outing-9863
END:VEVENT

END:VCALENDAR
