BEGIN:VCALENDAR
VERSION:2.0
PRODID:-//ChamberMaster//Event Calendar 2.0//EN
METHOD:PUBLISH
X-PUBLISHED-TTL:P3D
REFRESH-INTERVAL:P3D
CALSCALE:GREGORIAN
BEGIN:VEVENT
DTSTART;VALUE=DATE:20230422
DTEND;VALUE=DATE:20230423
TRANSP:TRANSPARENT
X-MICROSOFT-CDO-ALLDAYEVENT:TRUE
SUMMARY:14th Annual Alpha Gamma Rho Tee-Off for Charity
DESCRIPTION:14th Annual Alpha Gamma Rho Tee-Off for Charity. Price includes green fees\, golf cart\, and lunch. Competitions include longest drive\, longest put\, closest to the pin. 50/50 Raffle.
X-ALT-DESC;FMTTYPE=text/html:14th Annual Alpha Gamma Rho Tee-Off for Charity. Price includes green fees\, golf cart\, and lunch. Competitions include longest drive\, longest put\, closest to the pin. 50/50 Raffle.&nbsp\;<br />\n<br />\n&nbsp\;
LOCATION:Gold Hills Golf Club 10980 E. 900th St. Colchester\, IL 62326
UID:e.2125.13041
SEQUENCE:3
DTSTAMP:20260423T222619Z
URL:https://business.macombareachamber.com/events/details/14th-annual-alpha-gamma-rho-tee-off-for-charity-13041
END:VEVENT

END:VCALENDAR
