BEGIN:VCALENDAR
VERSION:2.0
PRODID:-//ChamberMaster//Event Calendar 2.0//EN
METHOD:PUBLISH
X-PUBLISHED-TTL:P3D
REFRESH-INTERVAL:P3D
CALSCALE:GREGORIAN
BEGIN:VEVENT
DTSTART:20230501T210000Z
DTEND:20230502T000000Z
X-MICROSOFT-CDO-ALLDAYEVENT:FALSE
SUMMARY:10th Annual Pastorelli Pastapalooza
DESCRIPTION:Save the Date! YMCA fund raiser hosted by Marilyn Pastorelli in honor of Steve Pastorelli and his many years of service to the community as the Executive Director of the YMCA of McDonough County. Dinner prepared by Chef Nate Rebman: includes pasta\, marinara sauce or meat sauce\, garlic bread\, & vegetable/dessert. Drinks from the American Legion and extra desserts for purchase. Gluten free options available by email to tschmidt@macombymca.org by April 21.
X-ALT-DESC;FMTTYPE=text/html:Save the Date! YMCA fund raiser hosted by Marilyn Pastorelli in honor of Steve Pastorelli and his many years of service to the community as the Executive Director of the YMCA of McDonough County. Dinner prepared by Chef Nate Rebman: includes pasta\, marinara sauce or meat sauce\, garlic bread\, &amp\; vegetable/dessert. Drinks from the American Legion and extra desserts for purchase. Gluten free options available by email to tschmidt@macombymca.org by April 21.&nbsp\;
LOCATION:American Legion - 221 E. Washington Street\, Macomb
UID:e.2125.12681
SEQUENCE:3
DTSTAMP:20260423T205529Z
URL:https://business.macombareachamber.com/events/details/10th-annual-pastorelli-pastapalooza-12681
END:VEVENT

END:VCALENDAR
